Package: velociraptor Version: 1.16.0 Command: /Library/Frameworks/R.framework/Resources/bin/R CMD build --keep-empty-dirs --no-resave-data velociraptor StartedAt: 2025-02-03 23:09:05 -0500 (Mon, 03 Feb 2025) EndedAt: 2025-02-03 23:12:51 -0500 (Mon, 03 Feb 2025) EllapsedTime: 225.7 seconds RetCode: 0 Status: OK PackageFile: velociraptor_1.16.0.tar.gz PackageFileSize: 869.2 KiB