Package: vbmp Version: 1.74.0 Command: /home/biocbuild/bbs-3.20-bioc/R/bin/R CMD check --install=check:vbmp.install-out.txt --library=/home/biocbuild/bbs-3.20-bioc/R/site-library --timings vbmp_1.74.0.tar.gz StartedAt: 2025-01-28 04:14:11 -0500 (Tue, 28 Jan 2025) EndedAt: 2025-01-28 04:14:55 -0500 (Tue, 28 Jan 2025) EllapsedTime: 44.0 seconds RetCode: 0 Status: OK CheckDir: vbmp.Rcheck Warnings: 0