Package: vbmp Version: 1.74.0 Command: /home/biocbuild/bbs-3.20-bioc/R/bin/R CMD build --keep-empty-dirs --no-resave-data --md5 vbmp StartedAt: 2025-01-27 20:31:03 -0500 (Mon, 27 Jan 2025) EndedAt: 2025-01-27 20:31:33 -0500 (Mon, 27 Jan 2025) EllapsedTime: 30.0 seconds RetCode: 0 Status: OK PackageFile: vbmp_1.74.0.tar.gz PackageFileSize: 1.763 MiB