Package: variancePartition Version: 1.36.3 Command: chmod a+r variancePartition -R && F:\biocbuild\bbs-3.20-bioc\R\bin\R.exe CMD build --keep-empty-dirs --no-resave-data variancePartition StartedAt: 2025-01-27 22:33:38 -0500 (Mon, 27 Jan 2025) EndedAt: 2025-01-27 22:47:20 -0500 (Mon, 27 Jan 2025) EllapsedTime: 821.7 seconds RetCode: 0 Status: OK PackageFile: variancePartition_1.36.3.tar.gz PackageFileSize: 3.869 MiB