Package: variancePartition Version: 1.36.3 Command: /Library/Frameworks/R.framework/Resources/bin/R CMD INSTALL variancePartition StartedAt: 2025-03-31 15:24:03 -0400 (Mon, 31 Mar 2025) EndedAt: 2025-03-31 15:24:48 -0400 (Mon, 31 Mar 2025) EllapsedTime: 45.1 seconds RetCode: 0 Status: OK