Package: universalmotif Version: 1.24.2 Command: /home/biocbuild/R/R/bin/R CMD check --install=check:universalmotif.install-out.txt --library=/home/biocbuild/R/R/site-library --no-vignettes --timings universalmotif_1.24.2.tar.gz StartedAt: 2025-01-31 11:21:55 -0000 (Fri, 31 Jan 2025) EndedAt: 2025-01-31 11:24:49 -0000 (Fri, 31 Jan 2025) EllapsedTime: 173.3 seconds RetCode: 0 Status: OK CheckDir: universalmotif.Rcheck Warnings: 0