Package: universalmotif Version: 1.24.2 Command: /home/biocbuild/bbs-3.20-bioc/R/bin/R CMD build --keep-empty-dirs --no-resave-data --md5 universalmotif StartedAt: 2025-01-27 20:30:06 -0500 (Mon, 27 Jan 2025) EndedAt: 2025-01-27 20:33:54 -0500 (Mon, 27 Jan 2025) EllapsedTime: 228.2 seconds RetCode: 0 Status: OK PackageFile: universalmotif_1.24.2.tar.gz PackageFileSize: 3.538 MiB