Package: unifiedWMWqPCR Version: 1.42.0 Command: /home/biocbuild/R/R/bin/R CMD INSTALL unifiedWMWqPCR StartedAt: 2025-03-31 20:16:20 -0000 (Mon, 31 Mar 2025) EndedAt: 2025-03-31 20:16:42 -0000 (Mon, 31 Mar 2025) EllapsedTime: 22.6 seconds RetCode: 0 Status: OK