Package: unifiedWMWqPCR Version: 1.42.0 Command: /home/biocbuild/R/R/bin/R CMD check --install=check:unifiedWMWqPCR.install-out.txt --library=/home/biocbuild/R/R/site-library --no-vignettes --timings unifiedWMWqPCR_1.42.0.tar.gz StartedAt: 2025-01-28 12:12:00 -0000 (Tue, 28 Jan 2025) EndedAt: 2025-01-28 12:12:34 -0000 (Tue, 28 Jan 2025) EllapsedTime: 34.0 seconds RetCode: 0 Status: OK CheckDir: unifiedWMWqPCR.Rcheck Warnings: 0