Package: unifiedWMWqPCR Version: 1.42.0 Command: /home/biocbuild/R/R/bin/R CMD build --keep-empty-dirs --no-resave-data unifiedWMWqPCR StartedAt: 2025-04-01 03:22:41 -0000 (Tue, 01 Apr 2025) EndedAt: 2025-04-01 03:22:52 -0000 (Tue, 01 Apr 2025) EllapsedTime: 11.0 seconds RetCode: 0 Status: OK PackageFile: unifiedWMWqPCR_1.42.0.tar.gz PackageFileSize: 492.8 KiB