Package: unifiedWMWqPCR Version: 1.42.0 Command: rm -rf unifiedWMWqPCR.buildbin-libdir && mkdir unifiedWMWqPCR.buildbin-libdir && F:\biocbuild\bbs-3.20-bioc\R\bin\R.exe CMD INSTALL --build --library=unifiedWMWqPCR.buildbin-libdir unifiedWMWqPCR_1.42.0.tar.gz StartedAt: 2025-04-01 09:27:27 -0400 (Tue, 01 Apr 2025) EndedAt: 2025-04-01 09:28:27 -0400 (Tue, 01 Apr 2025) EllapsedTime: 59.7 seconds RetCode: 0 Status: OK PackageFile: unifiedWMWqPCR_1.42.0.zip PackageFileSize: 737.5 KiB