Package: uncoverappLib Version: 1.16.0 Command: /home/biocbuild/R/R/bin/R CMD build --keep-empty-dirs --no-resave-data uncoverappLib StartedAt: 2025-01-28 04:00:46 -0000 (Tue, 28 Jan 2025) EndedAt: 2025-01-28 04:02:20 -0000 (Tue, 28 Jan 2025) EllapsedTime: 94.1 seconds RetCode: 0 Status: OK PackageFile: uncoverappLib_1.16.0.tar.gz PackageFileSize: 3.457 MiB