Package: uncoverappLib Version: 1.16.0 Command: F:\biocbuild\bbs-3.20-bioc\R\bin\R.exe CMD check --no-multiarch --install=check:uncoverappLib.install-out.txt --library=F:\biocbuild\bbs-3.20-bioc\R\library --no-vignettes --timings uncoverappLib_1.16.0.tar.gz StartedAt: 2025-01-28 07:01:27 -0500 (Tue, 28 Jan 2025) EndedAt: 2025-01-28 07:08:59 -0500 (Tue, 28 Jan 2025) EllapsedTime: 451.9 seconds RetCode: 0 Status: OK CheckDir: uncoverappLib.Rcheck Warnings: 0