Package: uncoverappLib Version: 1.16.0 Command: /Library/Frameworks/R.framework/Resources/bin/R CMD build --keep-empty-dirs --no-resave-data uncoverappLib StartedAt: 2025-01-27 23:21:20 -0500 (Mon, 27 Jan 2025) EndedAt: 2025-01-27 23:24:08 -0500 (Mon, 27 Jan 2025) EllapsedTime: 167.9 seconds RetCode: 0 Status: OK PackageFile: uncoverappLib_1.16.0.tar.gz PackageFileSize: 3.43 MiB