Package: uncoverappLib Version: 1.16.0 Command: rm -rf uncoverappLib.buildbin-libdir && mkdir uncoverappLib.buildbin-libdir && /Users/biocbuild/BBS/utils/build-universal.sh uncoverappLib_1.16.0.tar.gz /Library/Frameworks/R.framework/Resources/bin/R uncoverappLib.buildbin-libdir StartedAt: 2025-01-28 14:50:17 -0500 (Tue, 28 Jan 2025) EndedAt: 2025-01-28 14:52:55 -0500 (Tue, 28 Jan 2025) EllapsedTime: 158.4 seconds RetCode: 0 Status: OK PackageFile: uncoverappLib_1.16.0.tgz PackageFileSize: 2.832 MiB