Package: uncoverappLib Version: 1.16.0 Command: /Library/Frameworks/R.framework/Resources/bin/R CMD check --install=check:uncoverappLib.install-out.txt --library=/Library/Frameworks/R.framework/Resources/library --no-vignettes --timings uncoverappLib_1.16.0.tar.gz StartedAt: 2025-01-29 12:36:32 -0500 (Wed, 29 Jan 2025) EndedAt: 2025-01-29 12:44:11 -0500 (Wed, 29 Jan 2025) EllapsedTime: 459.2 seconds RetCode: 0 Status: OK CheckDir: uncoverappLib.Rcheck Warnings: 0