Package: uncoverappLib Version: 1.16.0 Command: /Library/Frameworks/R.framework/Resources/bin/R CMD build --keep-empty-dirs --no-resave-data uncoverappLib StartedAt: 2025-01-28 09:55:36 -0500 (Tue, 28 Jan 2025) EndedAt: 2025-01-28 09:57:18 -0500 (Tue, 28 Jan 2025) EllapsedTime: 102.3 seconds RetCode: 0 Status: OK PackageFile: uncoverappLib_1.16.0.tar.gz PackageFileSize: 3.43 MiB