Package: uSORT Version: 1.32.0 Command: /home/biocbuild/R/R/bin/R CMD check --install=check:uSORT.install-out.txt --library=/home/biocbuild/R/R/site-library --no-vignettes --timings uSORT_1.32.0.tar.gz StartedAt: 2025-01-28 12:13:05 -0000 (Tue, 28 Jan 2025) EndedAt: 2025-01-28 12:16:08 -0000 (Tue, 28 Jan 2025) EllapsedTime: 182.2 seconds RetCode: 0 Status: WARNINGS CheckDir: uSORT.Rcheck Warnings: 1