Package: uSORT Version: 1.32.0 Command: F:\biocbuild\bbs-3.20-bioc\R\bin\R.exe CMD check --no-multiarch --install=check:uSORT.install-out.txt --library=F:\biocbuild\bbs-3.20-bioc\R\library --no-vignettes --timings uSORT_1.32.0.tar.gz StartedAt: 2025-04-01 07:05:10 -0400 (Tue, 01 Apr 2025) EndedAt: 2025-04-01 07:08:04 -0400 (Tue, 01 Apr 2025) EllapsedTime: 174.0 seconds RetCode: 0 Status: WARNINGS CheckDir: uSORT.Rcheck Warnings: 1