Package: tximport Version: 1.34.0 Command: /home/biocbuild/R/R/bin/R CMD build --keep-empty-dirs --no-resave-data tximport StartedAt: 2025-01-28 03:59:56 -0000 (Tue, 28 Jan 2025) EndedAt: 2025-01-28 04:00:57 -0000 (Tue, 28 Jan 2025) EllapsedTime: 61.0 seconds RetCode: 0 Status: OK PackageFile: tximport_1.34.0.tar.gz PackageFileSize: 376.2 KiB