Package: tximport Version: 1.34.0 Command: /Library/Frameworks/R.framework/Resources/bin/R CMD INSTALL tximport StartedAt: 2025-01-27 15:12:33 -0500 (Mon, 27 Jan 2025) EndedAt: 2025-01-27 15:13:01 -0500 (Mon, 27 Jan 2025) EllapsedTime: 27.9 seconds RetCode: 0 Status: OK