Package: tximport Version: 1.34.0 Command: /Library/Frameworks/R.framework/Resources/bin/R CMD check --install=check:tximport.install-out.txt --library=/Library/Frameworks/R.framework/Resources/library --no-vignettes --timings tximport_1.34.0.tar.gz StartedAt: 2025-02-04 11:41:43 -0500 (Tue, 04 Feb 2025) EndedAt: 2025-02-04 11:45:22 -0500 (Tue, 04 Feb 2025) EllapsedTime: 218.8 seconds RetCode: 0 Status: OK CheckDir: tximport.Rcheck Warnings: 0