Package: tximport Version: 1.34.0 Command: /Library/Frameworks/R.framework/Resources/bin/R CMD build --keep-empty-dirs --no-resave-data tximport StartedAt: 2025-03-31 22:44:52 -0400 (Mon, 31 Mar 2025) EndedAt: 2025-03-31 22:46:34 -0400 (Mon, 31 Mar 2025) EllapsedTime: 101.6 seconds RetCode: 0 Status: OK PackageFile: tximport_1.34.0.tar.gz PackageFileSize: 308.2 KiB