Package: tximeta Version: 1.24.0 Command: chmod a+r tximeta -R && F:\biocbuild\bbs-3.20-bioc\R\bin\R.exe CMD build --keep-empty-dirs --no-resave-data tximeta StartedAt: 2025-01-27 22:31:41 -0500 (Mon, 27 Jan 2025) EndedAt: 2025-01-27 22:33:57 -0500 (Mon, 27 Jan 2025) EllapsedTime: 136.0 seconds RetCode: 0 Status: OK PackageFile: tximeta_1.24.0.tar.gz PackageFileSize: 1.332 MiB