Package: tximeta Version: 1.24.0 Command: rm -rf tximeta.buildbin-libdir && mkdir tximeta.buildbin-libdir && /Users/biocbuild/BBS/utils/build-universal.sh tximeta_1.24.0.tar.gz /Library/Frameworks/R.framework/Resources/bin/R tximeta.buildbin-libdir StartedAt: 2025-01-28 14:50:09 -0500 (Tue, 28 Jan 2025) EndedAt: 2025-01-28 14:51:59 -0500 (Tue, 28 Jan 2025) EllapsedTime: 110.0 seconds RetCode: 0 Status: OK PackageFile: tximeta_1.24.0.tgz PackageFileSize: 1.102 MiB