Package: txdbmaker Version: 1.2.1 Command: /home/biocbuild/R/R/bin/R CMD check --install=check:txdbmaker.install-out.txt --library=/home/biocbuild/R/R/site-library --no-vignettes --timings txdbmaker_1.2.1.tar.gz StartedAt: 2025-04-01 11:37:14 -0000 (Tue, 01 Apr 2025) EndedAt: 2025-04-01 11:52:57 -0000 (Tue, 01 Apr 2025) EllapsedTime: 943.0 seconds RetCode: 0 Status: OK CheckDir: txdbmaker.Rcheck Warnings: 0