Package: txdbmaker Version: 1.2.1 Command: chmod a+r txdbmaker -R && F:\biocbuild\bbs-3.20-bioc\R\bin\R.exe CMD build --keep-empty-dirs --no-resave-data txdbmaker StartedAt: 2025-01-27 22:31:26 -0500 (Mon, 27 Jan 2025) EndedAt: 2025-01-27 22:33:33 -0500 (Mon, 27 Jan 2025) EllapsedTime: 127.8 seconds RetCode: 0 Status: OK PackageFile: txdbmaker_1.2.1.tar.gz PackageFileSize: 14.53 MiB