Package: txdbmaker Version: 1.2.1 Command: /home/biocbuild/bbs-3.20-bioc/R/bin/R CMD INSTALL txdbmaker StartedAt: 2025-02-03 15:35:31 -0500 (Mon, 03 Feb 2025) EndedAt: 2025-02-03 15:36:07 -0500 (Mon, 03 Feb 2025) EllapsedTime: 37.0 seconds RetCode: 0 Status: OK