Package: txdbmaker Version: 1.2.1 Command: /home/biocbuild/bbs-3.20-bioc/R/bin/R CMD check --install=check:txdbmaker.install-out.txt --library=/home/biocbuild/bbs-3.20-bioc/R/site-library --timings txdbmaker_1.2.1.tar.gz StartedAt: 2025-02-04 03:25:59 -0500 (Tue, 04 Feb 2025) EndedAt: 2025-02-04 03:37:29 -0500 (Tue, 04 Feb 2025) EllapsedTime: 689.7 seconds RetCode: 0 Status: OK CheckDir: txdbmaker.Rcheck Warnings: 0