Package: txdbmaker Version: 1.2.1 Command: rm -rf txdbmaker.buildbin-libdir && mkdir txdbmaker.buildbin-libdir && /Users/biocbuild/BBS/utils/build-universal.sh txdbmaker_1.2.1.tar.gz /Library/Frameworks/R.framework/Resources/bin/R txdbmaker.buildbin-libdir StartedAt: 2025-01-28 14:50:08 -0500 (Tue, 28 Jan 2025) EndedAt: 2025-01-28 14:51:58 -0500 (Tue, 28 Jan 2025) EllapsedTime: 110.0 seconds RetCode: 0 Status: OK PackageFile: txdbmaker_1.2.1.tgz PackageFileSize: 1.25 MiB