Package: txcutr Version: 1.12.0 Command: F:\biocbuild\bbs-3.20-bioc\R\bin\R.exe CMD INSTALL txcutr StartedAt: 2025-03-31 16:11:28 -0400 (Mon, 31 Mar 2025) EndedAt: 2025-03-31 16:12:15 -0400 (Mon, 31 Mar 2025) EllapsedTime: 46.6 seconds RetCode: 0 Status: OK