Package: txcutr Version: 1.12.0 Command: rm -rf txcutr.buildbin-libdir && mkdir txcutr.buildbin-libdir && /Users/biocbuild/BBS/utils/build-universal.sh txcutr_1.12.0.tar.gz /Library/Frameworks/R.framework/Resources/bin/R txcutr.buildbin-libdir StartedAt: 2025-02-11 14:46:03 -0500 (Tue, 11 Feb 2025) EndedAt: 2025-02-11 14:47:28 -0500 (Tue, 11 Feb 2025) EllapsedTime: 85.2 seconds RetCode: 0 Status: OK PackageFile: txcutr_1.12.0.tgz PackageFileSize: 346 KiB