Package: txcutr Version: 1.12.0 Command: /Library/Frameworks/R.framework/Resources/bin/R CMD INSTALL txcutr StartedAt: 2025-03-31 16:28:03 -0400 (Mon, 31 Mar 2025) EndedAt: 2025-03-31 16:28:44 -0400 (Mon, 31 Mar 2025) EllapsedTime: 41.0 seconds RetCode: 0 Status: OK