Package: txcutr Version: 1.12.0 Command: /Library/Frameworks/R.framework/Resources/bin/R CMD build --keep-empty-dirs --no-resave-data txcutr StartedAt: 2025-01-28 09:52:51 -0500 (Tue, 28 Jan 2025) EndedAt: 2025-01-28 09:54:22 -0500 (Tue, 28 Jan 2025) EllapsedTime: 90.1 seconds RetCode: 0 Status: OK PackageFile: txcutr_1.12.0.tar.gz PackageFileSize: 314.8 KiB