Package: twilight Version: 1.82.0 Command: F:\biocbuild\bbs-3.20-bioc\R\bin\R.exe CMD INSTALL twilight StartedAt: 2025-02-03 15:38:09 -0500 (Mon, 03 Feb 2025) EndedAt: 2025-02-03 15:38:26 -0500 (Mon, 03 Feb 2025) EllapsedTime: 17.0 seconds RetCode: 0 Status: OK