Package: twilight Version: 1.82.0 Command: chmod a+r twilight -R && F:\biocbuild\bbs-3.20-bioc\R\bin\R.exe CMD build --keep-empty-dirs --no-resave-data twilight StartedAt: 2025-02-03 22:42:55 -0500 (Mon, 03 Feb 2025) EndedAt: 2025-02-03 22:44:29 -0500 (Mon, 03 Feb 2025) EllapsedTime: 93.8 seconds RetCode: 0 Status: OK PackageFile: twilight_1.82.0.tar.gz PackageFileSize: 948.9 KiB