Package: twilight Version: 1.82.0 Command: /Library/Frameworks/R.framework/Resources/bin/R CMD INSTALL twilight StartedAt: 2025-01-27 15:11:46 -0500 (Mon, 27 Jan 2025) EndedAt: 2025-01-27 15:12:09 -0500 (Mon, 27 Jan 2025) EllapsedTime: 23.2 seconds RetCode: 0 Status: OK