Package: twilight Version: 1.82.0 Command: /Library/Frameworks/R.framework/Resources/bin/R CMD check --install=check:twilight.install-out.txt --library=/Library/Frameworks/R.framework/Resources/library --no-vignettes --timings twilight_1.82.0.tar.gz StartedAt: 2025-01-28 11:50:59 -0500 (Tue, 28 Jan 2025) EndedAt: 2025-01-28 11:52:10 -0500 (Tue, 28 Jan 2025) EllapsedTime: 71.1 seconds RetCode: 0 Status: WARNINGS CheckDir: twilight.Rcheck Warnings: 1