Package: twilight Version: 1.82.0 Command: rm -rf twilight.buildbin-libdir && mkdir twilight.buildbin-libdir && /Users/biocbuild/BBS/utils/build-universal.sh twilight_1.82.0.tar.gz /Library/Frameworks/R.framework/Resources/bin/R twilight.buildbin-libdir StartedAt: 2025-04-01 12:57:50 -0400 (Tue, 01 Apr 2025) EndedAt: 2025-04-01 12:58:08 -0400 (Tue, 01 Apr 2025) EllapsedTime: 18.2 seconds RetCode: 0 Status: OK PackageFile: twilight_1.82.0.tgz PackageFileSize: 1.224 MiB