Package: twilight Version: 1.82.0 Command: /Library/Frameworks/R.framework/Resources/bin/R CMD INSTALL twilight StartedAt: 2025-02-03 15:14:46 -0500 (Mon, 03 Feb 2025) EndedAt: 2025-02-03 15:14:52 -0500 (Mon, 03 Feb 2025) EllapsedTime: 5.9 seconds RetCode: 0 Status: OK