Package: twilight Version: 1.82.0 Command: /Library/Frameworks/R.framework/Resources/bin/R CMD build --keep-empty-dirs --no-resave-data twilight StartedAt: 2025-01-28 09:51:26 -0500 (Tue, 28 Jan 2025) EndedAt: 2025-01-28 09:53:03 -0500 (Tue, 28 Jan 2025) EllapsedTime: 97.3 seconds RetCode: 0 Status: OK PackageFile: twilight_1.82.0.tar.gz PackageFileSize: 1.194 MiB