Package: tweeDEseq Version: 1.52.0 Command: chmod a+r tweeDEseq -R && F:\biocbuild\bbs-3.20-bioc\R\bin\R.exe CMD build --keep-empty-dirs --no-resave-data tweeDEseq StartedAt: 2025-01-27 22:30:49 -0500 (Mon, 27 Jan 2025) EndedAt: 2025-01-27 22:40:30 -0500 (Mon, 27 Jan 2025) EllapsedTime: 581.3 seconds RetCode: 0 Status: OK PackageFile: tweeDEseq_1.52.0.tar.gz PackageFileSize: 234.6 KiB