Package: tweeDEseq Version: 1.52.0 Command: rm -rf tweeDEseq.buildbin-libdir && mkdir tweeDEseq.buildbin-libdir && F:\biocbuild\bbs-3.20-bioc\R\bin\R.exe CMD INSTALL --build --library=tweeDEseq.buildbin-libdir tweeDEseq_1.52.0.tar.gz StartedAt: 2025-01-28 09:21:53 -0500 (Tue, 28 Jan 2025) EndedAt: 2025-01-28 09:22:26 -0500 (Tue, 28 Jan 2025) EllapsedTime: 32.9 seconds RetCode: 0 Status: OK PackageFile: tweeDEseq_1.52.0.zip PackageFileSize: 361 KiB