Package: tweeDEseq Version: 1.52.0 Command: /Library/Frameworks/R.framework/Resources/bin/R CMD check --install=check:tweeDEseq.install-out.txt --library=/Library/Frameworks/R.framework/Resources/library --no-vignettes --timings tweeDEseq_1.52.0.tar.gz StartedAt: 2025-04-01 10:39:56 -0400 (Tue, 01 Apr 2025) EndedAt: 2025-04-01 10:42:21 -0400 (Tue, 01 Apr 2025) EllapsedTime: 145.7 seconds RetCode: 0 Status: WARNINGS CheckDir: tweeDEseq.Rcheck Warnings: 1