Package: tweeDEseq Version: 1.52.0 Command: rm -rf tweeDEseq.buildbin-libdir && mkdir tweeDEseq.buildbin-libdir && /Users/biocbuild/BBS/utils/build-universal.sh tweeDEseq_1.52.0.tar.gz /Library/Frameworks/R.framework/Resources/bin/R tweeDEseq.buildbin-libdir StartedAt: 2025-04-01 12:57:45 -0400 (Tue, 01 Apr 2025) EndedAt: 2025-04-01 12:58:12 -0400 (Tue, 01 Apr 2025) EllapsedTime: 26.9 seconds RetCode: 0 Status: OK PackageFile: tweeDEseq_1.52.0.tgz PackageFileSize: 352.2 KiB