Package: tweeDEseq Version: 1.52.0 Command: /Library/Frameworks/R.framework/Resources/bin/R CMD check --install=check:tweeDEseq.install-out.txt --library=/Library/Frameworks/R.framework/Resources/library --no-vignettes --timings tweeDEseq_1.52.0.tar.gz StartedAt: 2025-04-02 12:08:47 -0400 (Wed, 02 Apr 2025) EndedAt: 2025-04-02 12:10:03 -0400 (Wed, 02 Apr 2025) EllapsedTime: 75.9 seconds RetCode: 0 Status: WARNINGS CheckDir: tweeDEseq.Rcheck Warnings: 1