Package: tweeDEseq Version: 1.52.0 Command: /Library/Frameworks/R.framework/Resources/bin/R CMD build --keep-empty-dirs --no-resave-data tweeDEseq StartedAt: 2025-04-01 09:37:34 -0400 (Tue, 01 Apr 2025) EndedAt: 2025-04-01 10:00:36 -0400 (Tue, 01 Apr 2025) EllapsedTime: 1381.9 seconds RetCode: 0 Status: OK PackageFile: tweeDEseq_1.52.0.tar.gz PackageFileSize: 233.3 KiB