Package: tripr Version: 1.12.0 Command: /home/biocbuild/R/R/bin/R CMD check --install=check:tripr.install-out.txt --library=/home/biocbuild/R/R/site-library --no-vignettes --timings tripr_1.12.0.tar.gz StartedAt: 2025-01-28 12:08:31 -0000 (Tue, 28 Jan 2025) EndedAt: 2025-01-28 12:10:57 -0000 (Tue, 28 Jan 2025) EllapsedTime: 146.3 seconds RetCode: 0 Status: WARNINGS CheckDir: tripr.Rcheck Warnings: 2