Package: tripr Version: 1.12.0 Command: /home/biocbuild/bbs-3.20-bioc/R/bin/R CMD INSTALL tripr StartedAt: 2025-01-27 16:28:03 -0500 (Mon, 27 Jan 2025) EndedAt: 2025-01-27 16:28:34 -0500 (Mon, 27 Jan 2025) EllapsedTime: 31.3 seconds RetCode: 0 Status: OK