Package: tripr Version: 1.12.0 Command: /home/biocbuild/bbs-3.20-bioc/R/bin/R CMD check --install=check:tripr.install-out.txt --library=/home/biocbuild/bbs-3.20-bioc/R/site-library --timings tripr_1.12.0.tar.gz StartedAt: 2025-01-28 04:06:17 -0500 (Tue, 28 Jan 2025) EndedAt: 2025-01-28 04:08:26 -0500 (Tue, 28 Jan 2025) EllapsedTime: 129.1 seconds RetCode: 0 Status: WARNINGS CheckDir: tripr.Rcheck Warnings: 1